BEGIN:VCALENDAR
VERSION:2.0
PRODID:-//Purposed Networking - ECPv6.15.20//NONSGML v1.0//EN
CALSCALE:GREGORIAN
METHOD:PUBLISH
X-WR-CALNAME:Purposed Networking
X-ORIGINAL-URL:https://purposednetworking.org
X-WR-CALDESC:Events for Purposed Networking
REFRESH-INTERVAL;VALUE=DURATION:PT1H
X-Robots-Tag:noindex
X-PUBLISHED-TTL:PT1H
BEGIN:VTIMEZONE
TZID:America/New_York
BEGIN:DAYLIGHT
TZOFFSETFROM:-0500
TZOFFSETTO:-0400
TZNAME:EDT
DTSTART:20200308T070000
END:DAYLIGHT
BEGIN:STANDARD
TZOFFSETFROM:-0400
TZOFFSETTO:-0500
TZNAME:EST
DTSTART:20201101T060000
END:STANDARD
BEGIN:DAYLIGHT
TZOFFSETFROM:-0500
TZOFFSETTO:-0400
TZNAME:EDT
DTSTART:20210314T070000
END:DAYLIGHT
BEGIN:STANDARD
TZOFFSETFROM:-0400
TZOFFSETTO:-0500
TZNAME:EST
DTSTART:20211107T060000
END:STANDARD
BEGIN:DAYLIGHT
TZOFFSETFROM:-0500
TZOFFSETTO:-0400
TZNAME:EDT
DTSTART:20220313T070000
END:DAYLIGHT
BEGIN:STANDARD
TZOFFSETFROM:-0400
TZOFFSETTO:-0500
TZNAME:EST
DTSTART:20221106T060000
END:STANDARD
END:VTIMEZONE
BEGIN:VEVENT
DTSTART;TZID=America/New_York:20210421T081500
DTEND;TZID=America/New_York:20210421T093000
DTSTAMP:20260425T083151
CREATED:20210430T150749Z
LAST-MODIFIED:20210430T150749Z
UID:249-1618992900-1618997400@purposednetworking.org
SUMMARY:Weekly Purposed Networking Meeting
DESCRIPTION:Please join us for our weekly networking meeting held via ZOOM.  This is a free event. \nClick To Join Zoom Meeting
URL:https://purposednetworking.org/event/weekly-purposed-networking-meeting-15/
CATEGORIES:Weekly Meeting
ATTACH;FMTTYPE=image/jpeg:https://purposednetworking.org/wp-content/uploads/2021/04/calendar-weekly-meeting-image-2.jpg
ORGANIZER;CN="Purposed Networking":MAILTO:info@purposednetworking.org
END:VEVENT
BEGIN:VEVENT
DTSTART;TZID=America/New_York:20210414T081500
DTEND;TZID=America/New_York:20210414T093000
DTSTAMP:20260425T083151
CREATED:20210430T150835Z
LAST-MODIFIED:20210430T150835Z
UID:251-1618388100-1618392600@purposednetworking.org
SUMMARY:Weekly Purposed Networking Meeting
DESCRIPTION:Please join us for our weekly networking meeting held via ZOOM.  This is a free event. \nClick To Join Zoom Meeting
URL:https://purposednetworking.org/event/weekly-purposed-networking-meeting-16/
CATEGORIES:Weekly Meeting
ATTACH;FMTTYPE=image/jpeg:https://purposednetworking.org/wp-content/uploads/2021/04/calendar-weekly-meeting-image-2.jpg
ORGANIZER;CN="Purposed Networking":MAILTO:info@purposednetworking.org
END:VEVENT
BEGIN:VEVENT
DTSTART;TZID=America/New_York:20210407T081500
DTEND;TZID=America/New_York:20210407T093000
DTSTAMP:20260425T083151
CREATED:20210430T150908Z
LAST-MODIFIED:20210430T150908Z
UID:253-1617783300-1617787800@purposednetworking.org
SUMMARY:Weekly Purposed Networking Meeting
DESCRIPTION:Please join us for our weekly networking meeting held via ZOOM.  This is a free event. \nClick To Join Zoom Meeting
URL:https://purposednetworking.org/event/weekly-purposed-networking-meeting-17/
CATEGORIES:Weekly Meeting
ATTACH;FMTTYPE=image/jpeg:https://purposednetworking.org/wp-content/uploads/2021/04/calendar-weekly-meeting-image-2.jpg
ORGANIZER;CN="Purposed Networking":MAILTO:info@purposednetworking.org
END:VEVENT
BEGIN:VEVENT
DTSTART;TZID=America/New_York:20210331T081500
DTEND;TZID=America/New_York:20210331T093000
DTSTAMP:20260425T083151
CREATED:20210430T150939Z
LAST-MODIFIED:20210430T150939Z
UID:255-1617178500-1617183000@purposednetworking.org
SUMMARY:Weekly Purposed Networking Meeting
DESCRIPTION:Please join us for our weekly networking meeting held via ZOOM.  This is a free event. \nClick To Join Zoom Meeting
URL:https://purposednetworking.org/event/weekly-purposed-networking-meeting-18/
CATEGORIES:Weekly Meeting
ATTACH;FMTTYPE=image/jpeg:https://purposednetworking.org/wp-content/uploads/2021/04/calendar-weekly-meeting-image-2.jpg
ORGANIZER;CN="Purposed Networking":MAILTO:info@purposednetworking.org
END:VEVENT
END:VCALENDAR