BEGIN:VCALENDAR
VERSION:2.0
PRODID:-//Purposed Networking - ECPv6.15.20//NONSGML v1.0//EN
CALSCALE:GREGORIAN
METHOD:PUBLISH
X-WR-CALNAME:Purposed Networking
X-ORIGINAL-URL:https://purposednetworking.org
X-WR-CALDESC:Events for Purposed Networking
REFRESH-INTERVAL;VALUE=DURATION:PT1H
X-Robots-Tag:noindex
X-PUBLISHED-TTL:PT1H
BEGIN:VTIMEZONE
TZID:America/New_York
BEGIN:DAYLIGHT
TZOFFSETFROM:-0500
TZOFFSETTO:-0400
TZNAME:EDT
DTSTART:20230312T070000
END:DAYLIGHT
BEGIN:STANDARD
TZOFFSETFROM:-0400
TZOFFSETTO:-0500
TZNAME:EST
DTSTART:20231105T060000
END:STANDARD
BEGIN:DAYLIGHT
TZOFFSETFROM:-0500
TZOFFSETTO:-0400
TZNAME:EDT
DTSTART:20240310T070000
END:DAYLIGHT
BEGIN:STANDARD
TZOFFSETFROM:-0400
TZOFFSETTO:-0500
TZNAME:EST
DTSTART:20241103T060000
END:STANDARD
BEGIN:DAYLIGHT
TZOFFSETFROM:-0500
TZOFFSETTO:-0400
TZNAME:EDT
DTSTART:20250309T070000
END:DAYLIGHT
BEGIN:STANDARD
TZOFFSETFROM:-0400
TZOFFSETTO:-0500
TZNAME:EST
DTSTART:20251102T060000
END:STANDARD
END:VTIMEZONE
BEGIN:VEVENT
DTSTART;TZID=America/New_York:20240626T080000
DTEND;TZID=America/New_York:20240626T093000
DTSTAMP:20260425T122613
CREATED:20240704T180153Z
LAST-MODIFIED:20240704T180153Z
UID:1566-1719388800-1719394200@purposednetworking.org
SUMMARY:Weekly Purposed Networking Meeting
DESCRIPTION:You are invited to join Raleigh’s best networking group for our weekly meeting. Connect with some amazing business owners and grow your business! \nNote: We have migrated back to in-person meetings\, so please feel free to join us at the Raleigh Founded! \nIf you plan to attend\, please RSVP to this event on our Facebook Events page.  We look forward to seeing you! \nRSVP NOW\nAdd This Event To Your Calendar
URL:https://purposednetworking.org/event/weekly-purposed-networking-meeting-127/
LOCATION:Raleigh Founded\, 2409 Crabtree Blvd\, Unit 107\, Raleigh\, NC\, 27604
CATEGORIES:Weekly Meeting
ATTACH;FMTTYPE=image/jpeg:https://purposednetworking.org/wp-content/uploads/2022/06/286196118_5162437517202785_1083007787479917003_n.jpg
ORGANIZER;CN="Purposed Networking":MAILTO:info@purposednetworking.org
END:VEVENT
END:VCALENDAR