BEGIN:VCALENDAR
VERSION:2.0
PRODID:-//Purposed Networking - ECPv6.15.20//NONSGML v1.0//EN
CALSCALE:GREGORIAN
METHOD:PUBLISH
X-ORIGINAL-URL:https://purposednetworking.org
X-WR-CALDESC:Events for Purposed Networking
REFRESH-INTERVAL;VALUE=DURATION:PT1H
X-Robots-Tag:noindex
X-PUBLISHED-TTL:PT1H
BEGIN:VTIMEZONE
TZID:America/New_York
BEGIN:DAYLIGHT
TZOFFSETFROM:-0500
TZOFFSETTO:-0400
TZNAME:EDT
DTSTART:20230312T070000
END:DAYLIGHT
BEGIN:STANDARD
TZOFFSETFROM:-0400
TZOFFSETTO:-0500
TZNAME:EST
DTSTART:20231105T060000
END:STANDARD
BEGIN:DAYLIGHT
TZOFFSETFROM:-0500
TZOFFSETTO:-0400
TZNAME:EDT
DTSTART:20240310T070000
END:DAYLIGHT
BEGIN:STANDARD
TZOFFSETFROM:-0400
TZOFFSETTO:-0500
TZNAME:EST
DTSTART:20241103T060000
END:STANDARD
BEGIN:DAYLIGHT
TZOFFSETFROM:-0500
TZOFFSETTO:-0400
TZNAME:EDT
DTSTART:20250309T070000
END:DAYLIGHT
BEGIN:STANDARD
TZOFFSETFROM:-0400
TZOFFSETTO:-0500
TZNAME:EST
DTSTART:20251102T060000
END:STANDARD
END:VTIMEZONE
BEGIN:VEVENT
DTSTART;TZID=America/New_York:20240710T080000
DTEND;TZID=America/New_York:20240710T093000
DTSTAMP:20260425T085943
CREATED:20240704T180216Z
LAST-MODIFIED:20240704T180216Z
UID:1568-1720598400-1720603800@purposednetworking.org
SUMMARY:Weekly Purposed Networking Meeting
DESCRIPTION:You are invited to join Raleigh’s best networking group for our weekly meeting. Connect with some amazing business owners and grow your business! \nNote: We have migrated back to in-person meetings\, so please feel free to join us at the Raleigh Founded! \nIf you plan to attend\, please RSVP to this event on our Facebook Events page.  We look forward to seeing you! \nRSVP NOW\nAdd This Event To Your Calendar
URL:https://purposednetworking.org/event/weekly-purposed-networking-meeting-128/
LOCATION:Raleigh Founded\, 2409 Crabtree Blvd\, Unit 107\, Raleigh\, NC\, 27604
CATEGORIES:Weekly Meeting
ATTACH;FMTTYPE=image/jpeg:https://purposednetworking.org/wp-content/uploads/2022/06/286196118_5162437517202785_1083007787479917003_n.jpg
ORGANIZER;CN="Purposed Networking":MAILTO:info@purposednetworking.org
END:VEVENT
BEGIN:VEVENT
DTSTART;TZID=America/New_York:20240717T080000
DTEND;TZID=America/New_York:20240717T093000
DTSTAMP:20260425T085943
CREATED:20240704T180237Z
LAST-MODIFIED:20240704T180237Z
UID:1570-1721203200-1721208600@purposednetworking.org
SUMMARY:Weekly Purposed Networking Meeting
DESCRIPTION:You are invited to join Raleigh’s best networking group for our weekly meeting. Connect with some amazing business owners and grow your business! \nNote: We have migrated back to in-person meetings\, so please feel free to join us at the Raleigh Founded! \nIf you plan to attend\, please RSVP to this event on our Facebook Events page.  We look forward to seeing you! \nRSVP NOW\nAdd This Event To Your Calendar
URL:https://purposednetworking.org/event/weekly-purposed-networking-meeting-129/
LOCATION:Raleigh Founded\, 2409 Crabtree Blvd\, Unit 107\, Raleigh\, NC\, 27604
CATEGORIES:Weekly Meeting
ATTACH;FMTTYPE=image/jpeg:https://purposednetworking.org/wp-content/uploads/2022/06/286196118_5162437517202785_1083007787479917003_n.jpg
ORGANIZER;CN="Purposed Networking":MAILTO:info@purposednetworking.org
END:VEVENT
BEGIN:VEVENT
DTSTART;TZID=America/New_York:20240724T080000
DTEND;TZID=America/New_York:20240724T093000
DTSTAMP:20260425T085943
CREATED:20240704T180304Z
LAST-MODIFIED:20240704T180304Z
UID:1572-1721808000-1721813400@purposednetworking.org
SUMMARY:Weekly Purposed Networking Meeting
DESCRIPTION:You are invited to join Raleigh’s best networking group for our weekly meeting. Connect with some amazing business owners and grow your business! \nNote: We have migrated back to in-person meetings\, so please feel free to join us at the Raleigh Founded! \nIf you plan to attend\, please RSVP to this event on our Facebook Events page.  We look forward to seeing you! \nRSVP NOW\nAdd This Event To Your Calendar
URL:https://purposednetworking.org/event/weekly-purposed-networking-meeting-130/
LOCATION:Raleigh Founded\, 2409 Crabtree Blvd\, Unit 107\, Raleigh\, NC\, 27604
CATEGORIES:Weekly Meeting
ATTACH;FMTTYPE=image/jpeg:https://purposednetworking.org/wp-content/uploads/2022/06/286196118_5162437517202785_1083007787479917003_n.jpg
ORGANIZER;CN="Purposed Networking":MAILTO:info@purposednetworking.org
END:VEVENT
BEGIN:VEVENT
DTSTART;TZID=America/New_York:20240731T080000
DTEND;TZID=America/New_York:20240731T093000
DTSTAMP:20260425T085943
CREATED:20240704T180321Z
LAST-MODIFIED:20240704T180321Z
UID:1574-1722412800-1722418200@purposednetworking.org
SUMMARY:Weekly Purposed Networking Meeting
DESCRIPTION:You are invited to join Raleigh’s best networking group for our weekly meeting. Connect with some amazing business owners and grow your business! \nNote: We have migrated back to in-person meetings\, so please feel free to join us at the Raleigh Founded! \nIf you plan to attend\, please RSVP to this event on our Facebook Events page.  We look forward to seeing you! \nRSVP NOW\nAdd This Event To Your Calendar
URL:https://purposednetworking.org/event/weekly-purposed-networking-meeting-131/
LOCATION:Raleigh Founded\, 2409 Crabtree Blvd\, Unit 107\, Raleigh\, NC\, 27604
CATEGORIES:Weekly Meeting
ATTACH;FMTTYPE=image/jpeg:https://purposednetworking.org/wp-content/uploads/2022/06/286196118_5162437517202785_1083007787479917003_n.jpg
ORGANIZER;CN="Purposed Networking":MAILTO:info@purposednetworking.org
END:VEVENT
END:VCALENDAR