BEGIN:VCALENDAR
VERSION:2.0
PRODID:-//Purposed Networking - ECPv6.15.20//NONSGML v1.0//EN
CALSCALE:GREGORIAN
METHOD:PUBLISH
X-WR-CALNAME:Purposed Networking
X-ORIGINAL-URL:https://purposednetworking.org
X-WR-CALDESC:Events for Purposed Networking
REFRESH-INTERVAL;VALUE=DURATION:PT1H
X-Robots-Tag:noindex
X-PUBLISHED-TTL:PT1H
BEGIN:VTIMEZONE
TZID:America/New_York
BEGIN:DAYLIGHT
TZOFFSETFROM:-0500
TZOFFSETTO:-0400
TZNAME:EDT
DTSTART:20200308T070000
END:DAYLIGHT
BEGIN:STANDARD
TZOFFSETFROM:-0400
TZOFFSETTO:-0500
TZNAME:EST
DTSTART:20201101T060000
END:STANDARD
BEGIN:DAYLIGHT
TZOFFSETFROM:-0500
TZOFFSETTO:-0400
TZNAME:EDT
DTSTART:20210314T070000
END:DAYLIGHT
BEGIN:STANDARD
TZOFFSETFROM:-0400
TZOFFSETTO:-0500
TZNAME:EST
DTSTART:20211107T060000
END:STANDARD
BEGIN:DAYLIGHT
TZOFFSETFROM:-0500
TZOFFSETTO:-0400
TZNAME:EDT
DTSTART:20220313T070000
END:DAYLIGHT
BEGIN:STANDARD
TZOFFSETFROM:-0400
TZOFFSETTO:-0500
TZNAME:EST
DTSTART:20221106T060000
END:STANDARD
END:VTIMEZONE
BEGIN:VEVENT
DTSTART;TZID=America/New_York:20210714T093000
DTEND;TZID=America/New_York:20210714T101500
DTSTAMP:20260425T134051
CREATED:20210713T191617Z
LAST-MODIFIED:20210713T192421Z
UID:477-1626255000-1626257700@purposednetworking.org
SUMMARY:Purposed Networking Leadership Meeting
DESCRIPTION:This meeting is for the Leadership Team only.
URL:https://purposednetworking.org/event/purposed-networking-leadership-meeting/
LOCATION:Northside Bistro\, 832 Spring Forest Road\, Raleigh\, NC\, 27609
CATEGORIES:Leadership Meeting
ATTACH;FMTTYPE=image/jpeg:https://purposednetworking.org/wp-content/uploads/2021/07/robots.jpeg
ORGANIZER;CN="Purposed Networking":MAILTO:info@purposednetworking.org
END:VEVENT
END:VCALENDAR