BEGIN:VCALENDAR
VERSION:2.0
PRODID:-//Purposed Networking - ECPv6.15.20//NONSGML v1.0//EN
CALSCALE:GREGORIAN
METHOD:PUBLISH
X-ORIGINAL-URL:https://purposednetworking.org
X-WR-CALDESC:Events for Purposed Networking
REFRESH-INTERVAL;VALUE=DURATION:PT1H
X-Robots-Tag:noindex
X-PUBLISHED-TTL:PT1H
BEGIN:VTIMEZONE
TZID:America/New_York
BEGIN:DAYLIGHT
TZOFFSETFROM:-0500
TZOFFSETTO:-0400
TZNAME:EDT
DTSTART:20250309T070000
END:DAYLIGHT
BEGIN:STANDARD
TZOFFSETFROM:-0400
TZOFFSETTO:-0500
TZNAME:EST
DTSTART:20251102T060000
END:STANDARD
BEGIN:DAYLIGHT
TZOFFSETFROM:-0500
TZOFFSETTO:-0400
TZNAME:EDT
DTSTART:20260308T070000
END:DAYLIGHT
BEGIN:STANDARD
TZOFFSETFROM:-0400
TZOFFSETTO:-0500
TZNAME:EST
DTSTART:20261101T060000
END:STANDARD
BEGIN:DAYLIGHT
TZOFFSETFROM:-0500
TZOFFSETTO:-0400
TZNAME:EDT
DTSTART:20270314T070000
END:DAYLIGHT
BEGIN:STANDARD
TZOFFSETFROM:-0400
TZOFFSETTO:-0500
TZNAME:EST
DTSTART:20271107T060000
END:STANDARD
END:VTIMEZONE
BEGIN:VEVENT
DTSTART;TZID=America/New_York:20260506T170000
DTEND;TZID=America/New_York:20260506T183000
DTSTAMP:20260423T171915
CREATED:20260412T204223Z
LAST-MODIFIED:20260412T204223Z
UID:2368-1778086800-1778092200@purposednetworking.org
SUMMARY:Purposed Networking Evening Social
DESCRIPTION:On the first Wednesday of every month\, our networking event is an evening social and YOU are invited! Connect with some amazing business owners and grow your business! This week’s social will be held at the LakePark Swim Club. Food and beverages will be provided. \nNote: We have migrated back to in-person meetings\, so please feel free to join us at the Yard House in North Hills! \nIf you plan to attend\, please RSVP to this event on our Facebook Events page.  We look forward to seeing you! \nRSVP NOW\nAdd This Event To Your Calendar
URL:https://purposednetworking.org/event/purposed-networking-evening-social-54/
LOCATION:Yard House\, 4208 Six Forks Rd Suite C110\, Raleigh\, NC\, 27609
CATEGORIES:Evening Social
ATTACH;FMTTYPE=image/jpeg:https://purposednetworking.org/wp-content/uploads/2022/06/20479494_1387896824656892_7322603862567229738_n.jpg
ORGANIZER;CN="Purposed Networking":MAILTO:info@purposednetworking.org
END:VEVENT
BEGIN:VEVENT
DTSTART;TZID=America/New_York:20260506T170000
DTEND;TZID=America/New_York:20260506T190000
DTSTAMP:20260423T171915
CREATED:20260319T185024Z
LAST-MODIFIED:20260319T185024Z
UID:2336-1778086800-1778094000@purposednetworking.org
SUMMARY:Annual PNG Pool Party!
DESCRIPTION:Join us for the Annual Purposed Networking Pool Party!\nCome celebrate another fantastic year of business networking and great friendships! \nLocation: Lake Park Swim Club\n6333 Lakeland Drive\, Raleigh\, NC 27612 \nWhen: May 6\, 2026\n 5:00PM – 7:00PM \nThe pool will be open\, so bring your suits!\nFood and drinks will be provided.\nGuest are welcome.
URL:https://purposednetworking.org/event/annual-png-pool-party/
LOCATION:Lake Park Swim Club\, 6333 Lakeland Drive\, Raleigh\, NC\, 27612
CATEGORIES:Evening Social
ATTACH;FMTTYPE=image/jpeg:https://purposednetworking.org/wp-content/uploads/2026/03/pool-party-2026.jpg
ORGANIZER;CN="Purposed Networking":MAILTO:info@purposednetworking.org
END:VEVENT
END:VCALENDAR